BEGIN:VCALENDAR
VERSION:2.0
PRODID:-//wp-events-plugin.com//6.4.10.2//EN
TZID:Europe/Vienna
X-WR-TIMEZONE:Europe/Vienna
BEGIN:VEVENT
UID:17-1820@lfs-warth.ac.at
DTSTART;TZID=Europe/Vienna:20260522T080000
DTEND;TZID=Europe/Vienna:20260522T160000
DTSTAMP:20260217T134831Z
URL:https://lfs-warth.ac.at/events/veredelung-von-wildfleisch-speziell-hir
 sch-2/
SUMMARY:Veredelung von Wildfleisch (speziell Hirsch)
DESCRIPTION:Herstellung von Selch- und Grillwürstel\, Stangenwurst\, Leber
 käse\, div. Räucher- und Pökelverfahren\n\n&nbsp\;
CATEGORIES:Kurs
LOCATION:LFS Warth\, Aichhof 1\, Warth\, Niederösterreich\, 2831\, Österr
 eich
X-APPLE-STRUCTURED-LOCATION;VALUE=URI;X-ADDRESS=Aichhof 1\, Warth\, Nieder
 österreich\, 2831\, Österreich;X-APPLE-RADIUS=100;X-TITLE=LFS Warth:geo:
 0,0
END:VEVENT
BEGIN:VTIMEZONE
TZID:Europe/Vienna
X-LIC-LOCATION:Europe/Vienna
BEGIN:DAYLIGHT
DTSTART:20260329T030000
TZOFFSETFROM:+0100
TZOFFSETTO:+0200
TZNAME:CEST
END:DAYLIGHT
END:VTIMEZONE
END:VCALENDAR