BEGIN:VCALENDAR
VERSION:2.0
PRODID:-//wp-events-plugin.com//6.4.10.2//EN
TZID:Europe/Vienna
X-WR-TIMEZONE:Europe/Vienna
BEGIN:VEVENT
UID:17-1876@lfs-warth.ac.at
DTSTART;TZID=Europe/Vienna:20260126T193000
DTEND;TZID=Europe/Vienna:20260127T164500
DTSTAMP:20251008T082231Z
URL:https://lfs-warth.ac.at/events/funktionelle-klauenpflege-grundkurs/
SUMMARY:Funktionelle Klauenpflege Grundkurs
DESCRIPTION:26.01.2026: Theorieteil 19:30 Uhr bis 21:30 Uhr\n\n27.01.2026: 
 Praxisteil\, 8:45 Uhr bis 16:30 Uhr\n\nAnmeldung bis 09.12.2025 beim LFI e
 rbeten (05 0259 26100)
CATEGORIES:Kurs
LOCATION:LFS Warth\, Aichhof 1\, Warth\, Niederösterreich\, 2831\, Österr
 eich
X-APPLE-STRUCTURED-LOCATION;VALUE=URI;X-ADDRESS=Aichhof 1\, Warth\, Nieder
 österreich\, 2831\, Österreich;X-APPLE-RADIUS=100;X-TITLE=LFS Warth:geo:
 0,0
END:VEVENT
BEGIN:VTIMEZONE
TZID:Europe/Vienna
X-LIC-LOCATION:Europe/Vienna
BEGIN:STANDARD
DTSTART:20251026T020000
TZOFFSETFROM:+0200
TZOFFSETTO:+0100
TZNAME:CET
END:STANDARD
END:VTIMEZONE
END:VCALENDAR